
BEGIN:VCALENDAR
VERSION:2.0
PRODID:-//Exeter Open Award Centre - ECPv4.8.2//NONSGML v1.0//EN
CALSCALE:GREGORIAN
METHOD:PUBLISH
X-WR-CALNAME:Exeter Open Award Centre
X-ORIGINAL-URL:http://www.eoac.org.uk
X-WR-CALDESC:Events for Exeter Open Award Centre
BEGIN:VEVENT
DTSTART;TZID=UTC+0:20180310T100000
DTEND;TZID=UTC+0:20180310T160000
DTSTAMP:20260421T170142
CREATED:20180212T201701Z
LAST-MODIFIED:20180302T165628Z
UID:984-1520676000-1520697600@www.eoac.org.uk
SUMMARY:Navigation Training Day
DESCRIPTION:Second navigation training day of the year\, suitable for all levels of experience. We will be holding one of these approximately once a month.  The terrain will vary from farmland\, heath to moorland.  This one is the moorland around Haytor. \nStart and finish at Haytor Visitor Centre Car Park (the bottom one with the toilets). \nThis is a chance to practice your map reading and compass work.  For those of you who are more experienced we will focus on micro-navigation and navigation strategy. \nYou will not be walking long distances and you will spend quite a lot of time standing still\, so bring waterproofs\, wear warm clothes and bring hats and gloves. Also bring packed lunch\, drink and snacks. \nPlease note if we have less than 4 people signed up by Thursday 1 March the event will be cancelled. So please tell us if you are coming using the Contact Form.  If you haven’t already given us a consent form please bring one with you \n\n\n	Related\n
URL:http://www.eoac.org.uk/event/navigation-training-day-3/
LOCATION:Haytor Visitor Centre Car Park\, Haytor Vale\, TQ13 9XT\, United Kingdom
END:VEVENT
END:VCALENDAR