
BEGIN:VCALENDAR
VERSION:2.0
PRODID:-//Exeter Open Award Centre - ECPv4.8.2//NONSGML v1.0//EN
CALSCALE:GREGORIAN
METHOD:PUBLISH
X-WR-CALNAME:Exeter Open Award Centre
X-ORIGINAL-URL:http://www.eoac.org.uk
X-WR-CALDESC:Events for Exeter Open Award Centre
BEGIN:VEVENT
DTSTART;TZID=UTC+0:20180127T090000
DTEND;TZID=UTC+0:20180127T150000
DTSTAMP:20260421T133813
CREATED:20180106T104852Z
LAST-MODIFIED:20180106T110204Z
UID:963-1517043600-1517065200@www.eoac.org.uk
SUMMARY:Navigation Training Day
DESCRIPTION:First navigation training day of the year\, suitable for all levels of experience. We will be holding one of these approximately once a month.  The terrain will vary from farmland\, heath to moorland.  This one is the heathland of Woodbury Common. \nStart and finish at Four Firs Car Park which is on the Yettington side of the B3180 and B3179 crossroads.  http://tinyurl.com/yc7ezjan \nThis is a chance to put into practice your map reading and compass work.  For those of you who are more experienced we will focus on micro-navigation and navigation strategy. \nYou will not be walking long distances and you will spend quite a lot of time standing still\, so bring waterproofs\, wear warm clothes and bring hats and gloves. Also bring packed lunch\, drink and snacks. \nPlease note if we have less than 4 people signed up by Thursday 25 January the event will be cancelled. So please tell us if you are coming using the Contact Form. \n\n\n	Related\n
URL:http://www.eoac.org.uk/event/navigation-training-day-2/
LOCATION:Four Firs Car Park\, Four Firs\, Woodbury Common\, United Kingdom
CATEGORIES:Exp Training
ORGANIZER;CN="":MAILTO:info@eoac.org.uk
END:VEVENT
END:VCALENDAR