
BEGIN:VCALENDAR
VERSION:2.0
PRODID:-//Exeter Open Award Centre - ECPv4.8.2//NONSGML v1.0//EN
CALSCALE:GREGORIAN
METHOD:PUBLISH
X-WR-CALNAME:Exeter Open Award Centre
X-ORIGINAL-URL:http://www.eoac.org.uk
X-WR-CALDESC:Events for Exeter Open Award Centre
BEGIN:VEVENT
DTSTART;TZID=UTC+0:20170514T100000
DTEND;TZID=UTC+0:20170514T160000
DTSTAMP:20260420T104033
CREATED:20170122T161212Z
LAST-MODIFIED:20170415T083344Z
UID:794-1494756000-1494777600@www.eoac.org.uk
SUMMARY:Navigation Day - CANCELLED
DESCRIPTION:Bronze Navigation Day – Location to be confirmed \n\n\n	Related\n
URL:http://www.eoac.org.uk/event/navigation-day-7/
CATEGORIES:Navigation
END:VEVENT
END:VCALENDAR