
BEGIN:VCALENDAR
VERSION:2.0
PRODID:-//Exeter Open Award Centre - ECPv4.8.2//NONSGML v1.0//EN
CALSCALE:GREGORIAN
METHOD:PUBLISH
X-WR-CALNAME:Exeter Open Award Centre
X-ORIGINAL-URL:http://www.eoac.org.uk
X-WR-CALDESC:Events for Exeter Open Award Centre
BEGIN:VEVENT
DTSTART;TZID=UTC+0:20160305T093000
DTEND;TZID=UTC+0:20160306T160000
DTSTAMP:20260421T105134
CREATED:20151215T221010Z
LAST-MODIFIED:20160226T150728Z
UID:242-1457170200-1457280000@www.eoac.org.uk
SUMMARY:Gold Training Weekend
DESCRIPTION:Here we will cover the Gold Expedition Training Syllabus in two days.  A combination of theory and practical sessions including a night navigation exercise.  Accommodation will be indoors. \nClick here for more details and joining instructions for the Gold Training Weekend March 2016 \n\n\n	Related\n
URL:http://www.eoac.org.uk/event/gold-training-weekend-2/
LOCATION:Old School South Brent\, Totnes Rd\, South Brent\, TQ10 9BP\, United Kingdom
CATEGORIES:Exp Training
END:VEVENT
END:VCALENDAR