
BEGIN:VCALENDAR
VERSION:2.0
PRODID:-//Exeter Open Award Centre - ECPv4.8.2//NONSGML v1.0//EN
CALSCALE:GREGORIAN
METHOD:PUBLISH
X-WR-CALNAME:Exeter Open Award Centre
X-ORIGINAL-URL:http://www.eoac.org.uk
X-WR-CALDESC:Events for Exeter Open Award Centre
BEGIN:VEVENT
DTSTART;VALUE=DATE:20170624
DTEND;VALUE=DATE:20170628
DTSTAMP:20260421T104457
CREATED:20170122T161744Z
LAST-MODIFIED:20170415T083739Z
UID:806-1498262400-1498607999@www.eoac.org.uk
SUMMARY:Gold Practice Expedition
DESCRIPTION:4 Day Practice Expedition (Brecons) \n\n\n	Related\n
URL:http://www.eoac.org.uk/event/gold-practice-expedition/
CATEGORIES:Expedition
END:VEVENT
END:VCALENDAR