
BEGIN:VCALENDAR
VERSION:2.0
PRODID:-//Exeter Open Award Centre - ECPv4.8.2//NONSGML v1.0//EN
CALSCALE:GREGORIAN
METHOD:PUBLISH
X-WR-CALNAME:Exeter Open Award Centre
X-ORIGINAL-URL:http://www.eoac.org.uk
X-WR-CALDESC:Events for Exeter Open Award Centre
BEGIN:VEVENT
DTSTART;TZID=UTC+0:20180301T183000
DTEND;TZID=UTC+0:20180301T200000
DTSTAMP:20260421T153458
CREATED:20180106T104857Z
LAST-MODIFIED:20180301T100707Z
UID:968-1519929000-1519934400@www.eoac.org.uk
SUMMARY:DofE Meeting - CANCELLED
DESCRIPTION:Cancelled due to the RED weather warning for Exeter.  Keep safe and warm \n\n\n	Related\n
URL:http://www.eoac.org.uk/event/dofe-meeting-52/
END:VEVENT
END:VCALENDAR