
BEGIN:VCALENDAR
VERSION:2.0
PRODID:-//Exeter Open Award Centre - ECPv4.8.2//NONSGML v1.0//EN
CALSCALE:GREGORIAN
METHOD:PUBLISH
X-WR-CALNAME:Exeter Open Award Centre
X-ORIGINAL-URL:http://www.eoac.org.uk
X-WR-CALDESC:Events for Exeter Open Award Centre
BEGIN:VEVENT
DTSTART;TZID=UTC+0:20161221T183000
DTEND;TZID=UTC+0:20161221T200000
DTSTAMP:20260419T152151
CREATED:20151215T221008Z
LAST-MODIFIED:20151215T221008Z
UID:229-1482345000-1482350400@www.eoac.org.uk
SUMMARY:DofE Meeting
DESCRIPTION:Normal Wednesday evening meeting \n\n\n	Related\n
URL:http://www.eoac.org.uk/event/dofe-meeting-44/
LOCATION:Middlemoor Fire Station\, Sidmouth Road\, Exeter\, EX2 7AP\, United Kingdom
CATEGORIES:Exp Training
END:VEVENT
END:VCALENDAR