
BEGIN:VCALENDAR
VERSION:2.0
PRODID:-//Exeter Open Award Centre - ECPv4.8.2//NONSGML v1.0//EN
CALSCALE:GREGORIAN
METHOD:PUBLISH
X-WR-CALNAME:Exeter Open Award Centre
X-ORIGINAL-URL:http://www.eoac.org.uk
X-WR-CALDESC:Events for Exeter Open Award Centre
BEGIN:VEVENT
DTSTART;TZID=UTC+0:20160615T183000
DTEND;TZID=UTC+0:20160615T200000
DTSTAMP:20260421T104921
CREATED:20151215T221005Z
LAST-MODIFIED:20160101T155400Z
UID:219-1466015400-1466020800@www.eoac.org.uk
SUMMARY:DofE Meeting
DESCRIPTION:Normal Wednesday evening meeting \n\n\n\nBronze\nSilver \n\n\n\n\n\n\nObservation recording and presentations\nFinal Expedition Preparation\n\n\n\n\n\n	Related\n
URL:http://www.eoac.org.uk/event/dofe-meeting-34/
LOCATION:Middlemoor Fire Station\, Sidmouth Road\, Exeter\, EX2 7AP\, United Kingdom
CATEGORIES:Exp Training
END:VEVENT
END:VCALENDAR