
BEGIN:VCALENDAR
VERSION:2.0
PRODID:-//Exeter Open Award Centre - ECPv4.8.2//NONSGML v1.0//EN
CALSCALE:GREGORIAN
METHOD:PUBLISH
X-WR-CALNAME:Exeter Open Award Centre
X-ORIGINAL-URL:http://www.eoac.org.uk
X-WR-CALDESC:Events for Exeter Open Award Centre
BEGIN:VEVENT
DTSTART;TZID=UTC+0:20160120T183000
DTEND;TZID=UTC+0:20160120T200000
DTSTAMP:20260421T093103
CREATED:20151215T221002Z
LAST-MODIFIED:20160101T143157Z
UID:209-1453314600-1453320000@www.eoac.org.uk
SUMMARY:DofE Meeting
DESCRIPTION:Normal Wednesday evening meeting \n\n\n\nBronze\nSilver \n\n\n\n\n\n\nMap Reading & Route Planning\nRoute Planning\n\n\n\n  \n  \n\n\n	Related\n
URL:http://www.eoac.org.uk/event/dofe-meeting-24/
LOCATION:Middlemoor Fire Station\, Sidmouth Road\, Exeter\, EX2 7AP\, United Kingdom
CATEGORIES:Exp Training
END:VEVENT
END:VCALENDAR