
BEGIN:VCALENDAR
VERSION:2.0
PRODID:-//Exeter Open Award Centre - ECPv4.8.2//NONSGML v1.0//EN
CALSCALE:GREGORIAN
METHOD:PUBLISH
X-WR-CALNAME:Exeter Open Award Centre
X-ORIGINAL-URL:http://www.eoac.org.uk
X-WR-CALDESC:Events for Exeter Open Award Centre
BEGIN:VEVENT
DTSTART;TZID=UTC+0:19700101T000000
DTEND;TZID=UTC+0:19700101T000000
DTSTAMP:20260421T153356
CREATED:20180106T104223Z
LAST-MODIFIED:20180106T104223Z
UID:953-0-0@www.eoac.org.uk
SUMMARY:Annual General Meeting
DESCRIPTION:Annual Report of the years activities and election of officers \n\n\n	Related\n
URL:http://www.eoac.org.uk/event/annual-general-meeting/
END:VEVENT
END:VCALENDAR