
BEGIN:VCALENDAR
VERSION:2.0
PRODID:-//Exeter Open Award Centre - ECPv4.8.2//NONSGML v1.0//EN
CALSCALE:GREGORIAN
METHOD:PUBLISH
X-WR-CALNAME:Exeter Open Award Centre
X-ORIGINAL-URL:http://www.eoac.org.uk
X-WR-CALDESC:Events for Exeter Open Award Centre
BEGIN:VEVENT
DTSTART;TZID=UTC+0:20180118T183000
DTEND;TZID=UTC+0:20180118T190000
DTSTAMP:20260421T121548
CREATED:20180106T104852Z
LAST-MODIFIED:20180106T104852Z
UID:964-1516300200-1516302000@www.eoac.org.uk
SUMMARY:Annual General Meeting
DESCRIPTION:Annual Report of the years activities and election of officers \n\n\n	Related\n
URL:http://www.eoac.org.uk/event/annual-general-meeting-2/
END:VEVENT
END:VCALENDAR